BEGIN:VCALENDAR
VERSION:2.0
PRODID:-// - ECPv6.15.20//NONSGML v1.0//EN
CALSCALE:GREGORIAN
METHOD:PUBLISH
X-ORIGINAL-URL:https://ferienpark-gehaichnis.de
X-WR-CALDESC:Veranstaltungen für 
REFRESH-INTERVAL;VALUE=DURATION:PT1H
X-Robots-Tag:noindex
X-PUBLISHED-TTL:PT1H
BEGIN:VTIMEZONE
TZID:UTC
BEGIN:STANDARD
TZOFFSETFROM:+0000
TZOFFSETTO:+0000
TZNAME:UTC
DTSTART:20250101T000000
END:STANDARD
END:VTIMEZONE
BEGIN:VEVENT
DTSTART;TZID=UTC:20260207T093000
DTEND;TZID=UTC:20260207T130000
DTSTAMP:20260422T105602
CREATED:20251229T123109Z
LAST-MODIFIED:20260116T120538Z
UID:7532-1770456600-1770469200@ferienpark-gehaichnis.de
SUMMARY:Workshop und Yoga für den mittleren und oberen Rücken
DESCRIPTION:Diesmal steht der mittlere und obere Rücken im Fokus: Fachfrau Carolin vermittelt Wissenswertes zur Anatomie\, gibt Tipps zur Haltung und zeigt ein paar einfache Übungen. Im Anschluss gibt es eine sanfte Rücken-Yogastunde mit Martina. Kosten: 35 EUR / Person\, Anmeldung unter: martina@ferienpark-gehaichnis.de.
URL:https://ferienpark-gehaichnis.de/event/workshop-und-yoga-fuer-den-mittleren-und-oberen-ruecken/
CATEGORIES:Yoga
END:VEVENT
BEGIN:VEVENT
DTSTART;TZID=UTC:20260220T190000
DTEND;TZID=UTC:20260220T210000
DTSTAMP:20260422T105602
CREATED:20260116T120932Z
LAST-MODIFIED:20260129T213547Z
UID:7558-1771614000-1771621200@ferienpark-gehaichnis.de
SUMMARY:Yoga & Klang
DESCRIPTION:Diese Yogastunde ist ein besonderer Genuss für die Ohren\, aber auch für’s Herz. Nach einer achtsamen Yogasession mit Martina\, die von Clarissa mit zauberhaften Klängen begleitet wird\, gehen wir auf eine ausgiebige Klangreise\, die dir tiefe Erholung schenkt. Kosten: 30 EUR / Person\, Infos & Anmeldung unter: martina@ferienpark-gehaichnis.de.
URL:https://ferienpark-gehaichnis.de/event/yoga-klang/
CATEGORIES:Yoga
END:VEVENT
END:VCALENDAR