BEGIN:VCALENDAR
VERSION:2.0
PRODID:-// - ECPv6.15.20//NONSGML v1.0//EN
CALSCALE:GREGORIAN
METHOD:PUBLISH
X-ORIGINAL-URL:https://ferienpark-gehaichnis.de
X-WR-CALDESC:Veranstaltungen für 
REFRESH-INTERVAL;VALUE=DURATION:PT1H
X-Robots-Tag:noindex
X-PUBLISHED-TTL:PT1H
BEGIN:VTIMEZONE
TZID:UTC
BEGIN:STANDARD
TZOFFSETFROM:+0000
TZOFFSETTO:+0000
TZNAME:UTC
DTSTART:20250101T000000
END:STANDARD
END:VTIMEZONE
BEGIN:VEVENT
DTSTART;TZID=UTC:20260103T160000
DTEND;TZID=UTC:20260103T180000
DTSTAMP:20260422T123949
CREATED:20251229T112046Z
LAST-MODIFIED:20251229T112046Z
UID:7506-1767456000-1767463200@ferienpark-gehaichnis.de
SUMMARY:Rauhnacht-Yoga
DESCRIPTION:Eine magische Yogastunde in den Rauhnächten\, inkl. Wünsche-Ritual am Lagerfeuer
URL:https://ferienpark-gehaichnis.de/event/rauhnacht-yoga/
END:VEVENT
BEGIN:VEVENT
DTSTART;TZID=UTC:20260116T190000
DTEND;TZID=UTC:20260116T203000
DTSTAMP:20260422T123949
CREATED:20251229T112515Z
LAST-MODIFIED:20251229T112515Z
UID:7508-1768590000-1768595400@ferienpark-gehaichnis.de
SUMMARY:Yoga für das Gesicht
DESCRIPTION:Entspannung und Stärkung der Muskulatur im Gesicht\, Hals und Nacken
URL:https://ferienpark-gehaichnis.de/event/yoga-fuer-das-gesicht/
CATEGORIES:Yoga
END:VEVENT
BEGIN:VEVENT
DTSTART;TZID=UTC:20260124T100000
DTEND;TZID=UTC:20260124T120000
DTSTAMP:20260422T123949
CREATED:20251229T112912Z
LAST-MODIFIED:20260116T120653Z
UID:7510-1769248800-1769256000@ferienpark-gehaichnis.de
SUMMARY:Neujahrs-Yoga
DESCRIPTION:Starte kraftvoll in das neue Jahr 2026\, mit aktivierenden Atemübungen\, einer inspirierenden Meditation und einem dynamischen Flow. Diese Session ist für alle Level geeignet. Kosten: 25 EUR / Person\, Anmeldung unter: martina@ferienpark-gehaichnis.de.
URL:https://ferienpark-gehaichnis.de/event/neujahrs-yoga/
CATEGORIES:Yoga
END:VEVENT
END:VCALENDAR