BEGIN:VCALENDAR
VERSION:2.0
PRODID:-// - ECPv6.15.20//NONSGML v1.0//EN
CALSCALE:GREGORIAN
METHOD:PUBLISH
X-ORIGINAL-URL:https://ferienpark-gehaichnis.de
X-WR-CALDESC:Veranstaltungen für 
REFRESH-INTERVAL;VALUE=DURATION:PT1H
X-Robots-Tag:noindex
X-PUBLISHED-TTL:PT1H
BEGIN:VTIMEZONE
TZID:UTC
BEGIN:STANDARD
TZOFFSETFROM:+0000
TZOFFSETTO:+0000
TZNAME:UTC
DTSTART:20240101T000000
END:STANDARD
END:VTIMEZONE
BEGIN:VEVENT
DTSTART;TZID=UTC:20251004T170000
DTEND;TZID=UTC:20251004T210000
DTSTAMP:20260422T173013
CREATED:20250925T113228Z
LAST-MODIFIED:20250925T113228Z
UID:7437-1759597200-1759611600@ferienpark-gehaichnis.de
SUMMARY:Hutkonzert mit Joshi und dem Wutzebrutzler
DESCRIPTION:
URL:https://ferienpark-gehaichnis.de/event/hutkonzert-mit-joshi-und-dem-wutzebrutzler-3/
END:VEVENT
BEGIN:VEVENT
DTSTART;TZID=UTC:20251025T100000
DTEND;TZID=UTC:20251025T120000
DTSTAMP:20260422T173013
CREATED:20251102T115659Z
LAST-MODIFIED:20251102T115659Z
UID:7474-1761386400-1761393600@ferienpark-gehaichnis.de
SUMMARY:Yoga Special mit Martina & Laura
DESCRIPTION:
URL:https://ferienpark-gehaichnis.de/event/yoga-special-mit-martina-laura/
END:VEVENT
END:VCALENDAR